BEGIN:VCALENDAR
VERSION:2.0
PRODID:-//culture.olympianland.gr - ECPv6.15.20//NONSGML v1.0//EN
CALSCALE:GREGORIAN
METHOD:PUBLISH
X-ORIGINAL-URL:https://culture.olympianland.gr
X-WR-CALDESC:Events for culture.olympianland.gr
REFRESH-INTERVAL;VALUE=DURATION:PT1H
X-Robots-Tag:noindex
X-PUBLISHED-TTL:PT1H
BEGIN:VTIMEZONE
TZID:Europe/Moscow
BEGIN:STANDARD
TZOFFSETFROM:+0300
TZOFFSETTO:+0300
TZNAME:MSK
DTSTART:20240101T000000
END:STANDARD
END:VTIMEZONE
BEGIN:VEVENT
DTSTART;TZID=Europe/Moscow:20251102T080000
DTEND;TZID=Europe/Moscow:20251102T120000
DTSTAMP:20260420T154110
CREATED:20251031T123121Z
LAST-MODIFIED:20251031T123149Z
UID:924-1762070400-1762084800@culture.olympianland.gr
SUMMARY:ΑΠΕΛΕΥΘΕΡΩΣΗ ΠΑΤΡΩΝ 2025
DESCRIPTION:Η ΑΜΚΕ «ΑΓΗΜΑ ΙΣΤΟΡΙΚΗΣ ΑΝΑΒΙΩΣΗΣ ΠΑΤΡΩΝ ΠΑΝΑΓΙΩΤΗΣ ΚΑΡΑΤΖΑΣ» θα διοργανώσει την εκδήλωση «ΑΠΕΛΕΥΘΕΡΩΣΗ ΠΑΤΡΩΝ 2025». Πρόκειται για μια εκδήλωση μνήμης και τιμής της ιστορικής ημέρας της απελευθέρωσης της πόλης των Πατρών από τους Οθωμανούς το 1828. Θα περιλαμβάνει αναπαράσταση της υπογραφής της συνθήκης παράδοσης από τον επικεφαλής του γαλλικού εκστρατευτικού σώματος στρατηγού Νικολάου – Ιωσήφ Μαιζόν στις Σκάλες της Αγίου Νικολάου. Η αναπαράσταση θα λάβει χώρα την 1η Νοεμβρίου 2025. Στις 2 Νοεμβρίου 2025\, θα πραγματοποιηθεί δοξολογία στον Ιερό μητροπολιτικό Ναό Ευαγγελιστρίας και θα ακολουθήσει παρέλαση των αναβιωτικών συλλόγων στις οδούς Αγίου Νικολάου – Ρήγα Φεραίου μέχρι τον Ιερό Ναό του Αγίου Ανδρέα όπου θα γίνει επιμνημόσυνη δέηση και κατάθεση στεφάνων. Η εκδήλωση θα κλείσει με παραδοσιακούς χορούς επί της πλατείας του Ιερού Ναού\, από αρματωμένους και λοιπούς.
URL:https://culture.olympianland.gr/event/%ce%b1%cf%80%ce%b5%ce%bb%ce%b5%cf%85%ce%b8%ce%b5%cf%81%cf%89%cf%83%ce%b7-%cf%80%ce%b1%cf%84%cf%81%cf%89%ce%bd-2025/
CATEGORIES:Επετειακές εκδηλώσεις
END:VEVENT
END:VCALENDAR