BEGIN:VCALENDAR
VERSION:2.0
PRODID:-//culture.olympianland.gr - ECPv6.15.20//NONSGML v1.0//EN
CALSCALE:GREGORIAN
METHOD:PUBLISH
X-ORIGINAL-URL:https://culture.olympianland.gr
X-WR-CALDESC:Events for culture.olympianland.gr
REFRESH-INTERVAL;VALUE=DURATION:PT1H
X-Robots-Tag:noindex
X-PUBLISHED-TTL:PT1H
BEGIN:VTIMEZONE
TZID:Europe/Moscow
BEGIN:STANDARD
TZOFFSETFROM:+0300
TZOFFSETTO:+0300
TZNAME:MSK
DTSTART:20240101T000000
END:STANDARD
END:VTIMEZONE
BEGIN:VEVENT
DTSTART;TZID=Europe/Moscow:20251223T080000
DTEND;TZID=Europe/Moscow:20271223T170000
DTSTAMP:20260420T011854
CREATED:20251223T071432Z
LAST-MODIFIED:20260305T064931Z
UID:948-1766476800-1829581200@culture.olympianland.gr
SUMMARY:1ο PODCAST- Ποιος ήταν Ο Γουσταύος\, τελικά;
DESCRIPTION:  \nΗ Περιφέρεια Δυτικής Ελλάδας προχώρησε στη δημιουργία έξι (6) διαδικτυακών ηχοεκπομπών (podcasts) πολιτιστικού περιεχομένου με τον τίτλο «Podcasts Πολιτισμού». \nΟι ηχοεκπομπές καλύπτουν θεματολογία που αφορά τον πολιτισμό\, την αρχαιολογία\, την τοπική ιστορία και τα τοπόσημα\, καθώς και σημεία πολιτιστικού\, ιστορικού και τουριστικού ενδιαφέροντος. Τα θέματα που παρουσιάζονται εστιάζουν σε ιστορίες\, διαδρομές\, μνημεία και σημεία που είτε δεν έχουν αναδειχθεί επαρκώς και χρήζουν ιδιαίτερης μνείας\, είτε είναι ήδη γνωστά\, αλλά προσεγγίζονται από μια διαφορετική\, λιγότερο γνωστή στο ευρύ κοινό οπτική γωνία\, μέσα από τις τοποθετήσεις εξειδικευμένων επιστημόνων που συμμετέχουν σε κάθε podcast. \nΗ παραγωγή των podcasts\, με τη συμμετοχή ειδικών (ιστορικών\, αρχαιολόγων\, συγγραφέων κ.ά.)\, στοχεύει στην ανάδειξη της ιστορίας\, της αρχιτεκτονικής\, των παραδόσεων και του πολιτισμού εν γένει της Περιφέρειας Δυτικής Ελλάδας\, ενώ παράλληλα διαθέτει και εκπαιδευτικό χαρακτήρα. \nΤο πρώτο podcast\, με τίτλο «Ποιος ήταν ο Γουσταύος\, τελικά;»\, έχει ήδη αναρτηθεί στο κανάλι Olympian Land στο YouTube:\nhttps://www.youtube.com/watch?v=0fSO-DBoISk \n \nΜε αφορμή τη συμπλήρωση 200 ετών από τη γέννηση του Γουσταύου Κλάους —του ανθρώπου που έθεσε τις βάσεις της οινοποίησης στην Ελλάδα\, ανέδειξε τον τοπικό οινικό πλούτο και άφησε ισχυρό αποτύπωμα στην οικονομική και πολιτιστική ζωή της Πάτρας— επιχειρείται η ανάδειξη του ανθρώπου πίσω από τον μύθο. \nΣτο συγκεκριμένο podcast\, ο κ. Νίκος Μπακουνάκης\, Πρόεδρος του Ελληνικού Ιδρύματος Βιβλίου και Πολιτισμού και ομότιμος καθηγητής του Παντείου Πανεπιστημίου\, απαντά σε ερωτήματα όπως: ποιος ήταν ο Γουσταύος Κλάους\, πού σπούδασε\, τι μουσική άκουγε\, ακόμη και από πού προμηθευόταν τους λαιμοδέτες του\, φωτίζοντας άγνωστες πτυχές της προσωπικότητάς του\, καταρρίπτοντας ή επιβεβαιώνοντας μύθους και συνθέτοντας μια ολοκληρωμένη εικόνα του επιχειρηματία και ανθρώπου της εποχής του. \nΟ Αντιπεριφερειάρχης Πολιτισμού\, κ. Παναγιώτης Μπράμος\, δήλωσε:\n«Ο πολιτισμός αποτελεί την ταυτότητα και τη συλλογική μνήμη κάθε τόπου. Η ανάδειξη και η στήριξή του είναι πρωταρχικό μέλημα της Περιφέρειας Δυτικής Ελλάδας. Μέσα από τα Podcasts Πολιτισμού αξιοποιούμε σύγχρονα ψηφιακά μέσα για να φέρουμε την ιστορία και την πολιτιστική μας κληρονομιά πιο κοντά στο ευρύ κοινό. Πρόκειται για μια καινοτόμο δράση με δυναμική εξωστρέφειας\, η οποία φιλοδοξεί να λειτουργήσει ως πολιτιστικός πρεσβευτής της Περιφέρειάς μας\, εντός και εκτός των γεωγραφικών της ορίων». \nΤα Podcasts Πολιτισμού είναι διαθέσιμα στο κανάλι Olympian Land στο YouTube\, καθώς και στα μέσα κοινωνικής δικτύωσης του Olympian Land και της Περιφέρειας Δυτικής Ελλάδας. \n 
URL:https://culture.olympianland.gr/event/1%ce%bf-podcast-%cf%80%ce%bf%ce%b9%ce%bf%cf%82-%ce%ae%cf%84%ce%b1%ce%bd-%ce%bf-%ce%b3%ce%bf%cf%85%cf%83%cf%84%ce%b1%cf%8d%ce%bf%cf%82-%cf%84%ce%b5%ce%bb%ce%b9%ce%ba%ce%ac/
CATEGORIES:podcast
ATTACH;FMTTYPE=image/jpeg:https://culture.olympianland.gr/wp-content/uploads/2025/12/IMG_20251223_091751.jpg
END:VEVENT
END:VCALENDAR